BEGIN:VCALENDAR
VERSION:2.0
PRODID:-//GHAH - ECPv6.7.0//NONSGML v1.0//EN
CALSCALE:GREGORIAN
METHOD:PUBLISH
X-WR-CALNAME:GHAH
X-ORIGINAL-URL:https://staging.ghah.ch
X-WR-CALDESC:Veranstaltungen für GHAH
REFRESH-INTERVAL;VALUE=DURATION:PT1H
X-Robots-Tag:noindex
X-PUBLISHED-TTL:PT1H
BEGIN:VTIMEZONE
TZID:UTC
BEGIN:STANDARD
TZOFFSETFROM:+0000
TZOFFSETTO:+0000
TZNAME:UTC
DTSTART:20250101T000000
END:STANDARD
END:VTIMEZONE
BEGIN:VEVENT
DTSTART;TZID=UTC:20250403T190000
DTEND;TZID=UTC:20250403T233000
DTSTAMP:20260422T224055
CREATED:20250309T140055Z
LAST-MODIFIED:20250309T140055Z
UID:202-1743706800-1743723000@staging.ghah.ch
SUMMARY:Oh Du Frühling
DESCRIPTION:
URL:https://staging.ghah.ch/event/oh-du-fruehling/
END:VEVENT
END:VCALENDAR