BEGIN:VCALENDAR
VERSION:2.0
PRODID:-//GHAH - ECPv6.7.0//NONSGML v1.0//EN
CALSCALE:GREGORIAN
METHOD:PUBLISH
X-ORIGINAL-URL:https://staging.ghah.ch
X-WR-CALDESC:Veranstaltungen für GHAH
REFRESH-INTERVAL;VALUE=DURATION:PT1H
X-Robots-Tag:noindex
X-PUBLISHED-TTL:PT1H
BEGIN:VTIMEZONE
TZID:UTC
BEGIN:STANDARD
TZOFFSETFROM:+0000
TZOFFSETTO:+0000
TZNAME:UTC
DTSTART:20240101T000000
END:STANDARD
END:VTIMEZONE
BEGIN:VEVENT
DTSTART;TZID=UTC:20241003T190000
DTEND;TZID=UTC:20241003T233000
DTSTAMP:20260423T060241
CREATED:20240923T140853Z
LAST-MODIFIED:20240930T121338Z
UID:151-1727982000-1727998200@staging.ghah.ch
SUMMARY:Willkommens-Höck mit Wurst und Pommes
DESCRIPTION:Es geht um die Wurst
URL:https://staging.ghah.ch/event/willkommens-hoeck/
LOCATION:Algetshausen
END:VEVENT
END:VCALENDAR